BEGIN:VCALENDAR
VERSION:2.0
PRODID:-//pretix//pretix.eu//
BEGIN:VTIMEZONE
TZID:Europe/Berlin
BEGIN:STANDARD
DTSTART:20001029T040000
RRULE:FREQ=YEARLY;BYDAY=-1SU;BYMONTH=10
TZNAME:CET
TZOFFSETFROM:+0200
TZOFFSETTO:+0100
END:STANDARD
BEGIN:DAYLIGHT
DTSTART:20000326T030000
RRULE:FREQ=YEARLY;BYDAY=-1SU;BYMONTH=3
TZNAME:CEST
TZOFFSETFROM:+0100
TZOFFSETTO:+0200
END:DAYLIGHT
END:VTIMEZONE
BEGIN:VEVENT
UID:pretix-klangkraft-christmas-6-4707534@tickets.klangkraft.de
DTSTART;TZID=Europe/Berlin:20251205T190000
DTEND;TZID=Europe/Berlin:20251205T200000
DESCRIPTION:Tickets: https://tickets.klangkraft.de/christmas-6/4707534/\nEi
 nlass: 05.12.2025 18:50\nVeranstalter: Klangkraft Orchester
DTSTAMP:20260422T033400Z
LOCATION:Kulturkirche Liebfrauen\, König-Heinrich-Platz 3\, 47051 Duisburg
SUMMARY:Klangkraft Before Christmas 6
END:VEVENT
END:VCALENDAR
