BEGIN:VCALENDAR
VERSION:2.0
PRODID:-//pretix//pretix.eu//
BEGIN:VTIMEZONE
TZID:Europe/Berlin
BEGIN:STANDARD
DTSTART:20001029T040000
RRULE:FREQ=YEARLY;BYDAY=-1SU;BYMONTH=10
TZNAME:CET
TZOFFSETFROM:+0200
TZOFFSETTO:+0100
END:STANDARD
BEGIN:DAYLIGHT
DTSTART:20000326T030000
RRULE:FREQ=YEARLY;BYDAY=-1SU;BYMONTH=3
TZNAME:CEST
TZOFFSETFROM:+0100
TZOFFSETTO:+0200
END:DAYLIGHT
END:VTIMEZONE
BEGIN:VEVENT
UID:pretix-klangkraft-minkorrekt-4911855@tickets.klangkraft.de
DTSTART;TZID=Europe/Berlin:20260530T193000
DTEND;TZID=Europe/Berlin:20260530T203000
DESCRIPTION:Tickets: https://tickets.klangkraft.de/minkorrekt/4911855/\nVer
 anstalter: Klangkraft Orchester
DTSTAMP:20260421T120525Z
LOCATION:Platz der Vielfalt 8/8\, 46537 Dinslaken
SUMMARY:Melodisch Inkorrekt: Weltuntergang und Hoffnung
END:VEVENT
BEGIN:VEVENT
UID:pretix-klangkraft-minkorrekt-4911857@tickets.klangkraft.de
DTSTART;TZID=Europe/Berlin:20260531T170000
DTEND;TZID=Europe/Berlin:20260531T180000
DESCRIPTION:Tickets: https://tickets.klangkraft.de/minkorrekt/4911857/\nVer
 anstalter: Klangkraft Orchester
DTSTAMP:20260421T120525Z
LOCATION:Platz der Vielfalt 8/8\, 46537 Dinslaken
SUMMARY:Melodisch Inkorrekt: Weltuntergang und Hoffnung
END:VEVENT
BEGIN:VEVENT
UID:pretix-klangkraft-pink-floyd-2026-4870485@tickets.klangkraft.de
DTSTART;TZID=Europe/Berlin:20260627T200000
DTEND;TZID=Europe/Berlin:20260627T210000
DESCRIPTION:Tickets: https://tickets.klangkraft.de/pink-floyd-2026/4870485/
 \nEinlass: 27.06.2026 19:00\nVeranstalter: Klangkraft Orchester
DTSTAMP:20260421T120525Z
LOCATION:Festhalle Stadt Viersen\, Hermann-Hülser-Platz 1\, 41747 Viersen
SUMMARY:Pink Floyd: A Symphonic Journey
END:VEVENT
END:VCALENDAR
